Package: traviz Version: 1.15.1 Command: /home/biocbuild/bbs-3.22-bioc/R/bin/R CMD build --keep-empty-dirs --no-resave-data --md5 traviz StartedAt: 2025-10-19 20:33:47 -0400 (Sun, 19 Oct 2025) EndedAt: 2025-10-19 20:33:48 -0400 (Sun, 19 Oct 2025) EllapsedTime: 1.0 seconds RetCode: 1 Status: ERROR PackageFile: None PackageFileSize: NA