Package: traviz Version: 1.15.1 Command: /Library/Frameworks/R.framework/Resources/bin/R CMD INSTALL traviz StartedAt: 2025-10-19 15:27:14 -0400 (Sun, 19 Oct 2025) EndedAt: 2025-10-19 15:27:15 -0400 (Sun, 19 Oct 2025) EllapsedTime: 1.2 seconds RetCode: 1 Status: ERROR