Package: traviz Version: 1.15.1 Command: /Library/Frameworks/R.framework/Resources/bin/R CMD build --keep-empty-dirs --no-resave-data traviz StartedAt: 2025-10-19 19:55:04 -0400 (Sun, 19 Oct 2025) EndedAt: 2025-10-19 19:55:06 -0400 (Sun, 19 Oct 2025) EllapsedTime: 2.3 seconds RetCode: 1 Status: ERROR PackageFile: None PackageFileSize: NA