Package: traviz Version: 1.15.1 Command: /Library/Frameworks/R.framework/Resources/bin/R CMD build --keep-empty-dirs --no-resave-data traviz StartedAt: 2025-10-19 17:59:06 -0400 (Sun, 19 Oct 2025) EndedAt: 2025-10-19 17:59:07 -0400 (Sun, 19 Oct 2025) EllapsedTime: 1.0 seconds RetCode: 1 Status: ERROR PackageFile: None PackageFileSize: NA