############################################################################## ############################################################################## ### ### Running command: ### ### /Library/Frameworks/R.framework/Resources/bin/R CMD build --keep-empty-dirs --no-resave-data traviz ### ############################################################################## ############################################################################## * checking for file ‘traviz/DESCRIPTION’ ... OK * preparing ‘traviz’: * checking DESCRIPTION meta-information ... OK * installing the package to build vignettes ----------------------------------- * installing *source* package ‘traviz’ ... ** this is package ‘traviz’ version ‘1.15.1’ ** using staged installation ** R Error in .install_package_code_files(".", instdir) : files in '/private/var/folders/r0/l4fjk6cj5xj0j3brt4bplpl40000gt/T/RtmpV9Rg3G/Rbuild130306ccb3973/traviz/R' missing from 'Collate' field: zzz.R ERROR: unable to collate and parse R files for package ‘traviz’ * removing ‘/private/var/folders/r0/l4fjk6cj5xj0j3brt4bplpl40000gt/T/RtmpV9Rg3G/Rinst130301228e4d2/traviz’ ----------------------------------- ERROR: package installation failed