Package: transomics2cytoscape Version: 1.19.0 Command: /home/biocbuild/R/R/bin/R CMD INSTALL transomics2cytoscape StartedAt: 2025-10-16 21:39:10 -0000 (Thu, 16 Oct 2025) EndedAt: 2025-10-16 21:39:14 -0000 (Thu, 16 Oct 2025) EllapsedTime: 4.2 seconds RetCode: 0 Status: OK