Package: transomics2cytoscape Version: 1.19.0 Command: F:\biocbuild\bbs-3.22-bioc\R\bin\R.exe CMD check --no-multiarch --install=check:transomics2cytoscape.install-out.txt --library=F:\biocbuild\bbs-3.22-bioc\R\library --no-vignettes --timings transomics2cytoscape_1.19.0.tar.gz StartedAt: 2025-08-15 08:55:06 -0400 (Fri, 15 Aug 2025) EndedAt: 2025-08-15 08:55:47 -0400 (Fri, 15 Aug 2025) EllapsedTime: 41.5 seconds RetCode: 0 Status: OK CheckDir: transomics2cytoscape.Rcheck Warnings: 0