Package: transomics2cytoscape Version: 1.19.0 Command: /home/biocbuild/bbs-3.22-bioc/R/bin/R CMD INSTALL transomics2cytoscape StartedAt: 2025-10-19 15:26:06 -0400 (Sun, 19 Oct 2025) EndedAt: 2025-10-19 15:26:09 -0400 (Sun, 19 Oct 2025) EllapsedTime: 3.1 seconds RetCode: 0 Status: OK