Package: transomics2cytoscape Version: 1.19.0 Command: /home/biocbuild/bbs-3.22-bioc/R/bin/R CMD check --install=check:transomics2cytoscape.install-out.txt --library=/home/biocbuild/bbs-3.22-bioc/R/site-library --timings transomics2cytoscape_1.19.0.tar.gz StartedAt: 2025-10-20 05:52:29 -0400 (Mon, 20 Oct 2025) EndedAt: 2025-10-20 05:53:11 -0400 (Mon, 20 Oct 2025) EllapsedTime: 41.1 seconds RetCode: 0 Status: OK CheckDir: transomics2cytoscape.Rcheck Warnings: 0