Package: transomics2cytoscape Version: 1.19.0 Command: /home/biocbuild/bbs-3.22-bioc/R/bin/R CMD build --keep-empty-dirs --no-resave-data --md5 transomics2cytoscape StartedAt: 2025-10-19 20:33:39 -0400 (Sun, 19 Oct 2025) EndedAt: 2025-10-19 20:33:47 -0400 (Sun, 19 Oct 2025) EllapsedTime: 8.0 seconds RetCode: 0 Status: OK PackageFile: transomics2cytoscape_1.19.0.tar.gz PackageFileSize: 11.82 MiB