Package: transomics2cytoscape Version: 1.19.0 Command: /Library/Frameworks/R.framework/Resources/bin/R CMD INSTALL transomics2cytoscape StartedAt: 2025-10-22 15:19:19 -0400 (Wed, 22 Oct 2025) EndedAt: 2025-10-22 15:19:25 -0400 (Wed, 22 Oct 2025) EllapsedTime: 6.1 seconds RetCode: 0 Status: OK