Package: transite Version: 1.27.1 Command: /home/biocbuild/R/R/bin/R CMD INSTALL transite StartedAt: 2025-10-16 21:46:25 -0000 (Thu, 16 Oct 2025) EndedAt: 2025-10-16 21:46:55 -0000 (Thu, 16 Oct 2025) EllapsedTime: 30.6 seconds RetCode: 0 Status: OK