Package: transite Version: 1.27.1 Command: /home/biocbuild/R/R/bin/R CMD build --keep-empty-dirs --no-resave-data transite StartedAt: 2025-10-17 05:19:05 -0000 (Fri, 17 Oct 2025) EndedAt: 2025-10-17 05:19:53 -0000 (Fri, 17 Oct 2025) EllapsedTime: 48.0 seconds RetCode: 0 Status: OK PackageFile: transite_1.27.1.tar.gz PackageFileSize: 617.9 KiB