Package: transite Version: 1.27.0 Command: chmod a+r transite -R && F:\biocbuild\bbs-3.22-bioc\R\bin\R.exe CMD build --keep-empty-dirs --no-resave-data transite StartedAt: 2025-08-14 23:49:41 -0400 (Thu, 14 Aug 2025) EndedAt: 2025-08-14 23:50:43 -0400 (Thu, 14 Aug 2025) EllapsedTime: 62.0 seconds RetCode: 0 Status: OK PackageFile: transite_1.27.0.tar.gz PackageFileSize: 610.8 KiB