Package: transite Version: 1.27.0 Command: rm -rf transite.buildbin-libdir && mkdir transite.buildbin-libdir && F:\biocbuild\bbs-3.22-bioc\R\bin\R.exe CMD INSTALL --build --library=transite.buildbin-libdir transite_1.27.0.tar.gz StartedAt: 2025-08-15 11:31:27 -0400 (Fri, 15 Aug 2025) EndedAt: 2025-08-15 11:32:23 -0400 (Fri, 15 Aug 2025) EllapsedTime: 55.9 seconds RetCode: 0 Status: OK PackageFile: transite_1.27.0.zip PackageFileSize: 1.336 MiB