Package: transite Version: 1.27.1 Command: /home/biocbuild/bbs-3.22-bioc/R/bin/R CMD INSTALL transite StartedAt: 2025-10-19 15:31:43 -0400 (Sun, 19 Oct 2025) EndedAt: 2025-10-19 15:32:05 -0400 (Sun, 19 Oct 2025) EllapsedTime: 21.9 seconds RetCode: 0 Status: OK