Package: transite Version: 1.27.1 Command: /home/biocbuild/bbs-3.22-bioc/R/bin/R CMD check --install=check:transite.install-out.txt --library=/home/biocbuild/bbs-3.22-bioc/R/site-library --timings transite_1.27.1.tar.gz StartedAt: 2025-10-20 05:51:16 -0400 (Mon, 20 Oct 2025) EndedAt: 2025-10-20 05:59:30 -0400 (Mon, 20 Oct 2025) EllapsedTime: 493.5 seconds RetCode: 0 Status: OK CheckDir: transite.Rcheck Warnings: 0