Package: transite Version: 1.27.1 Command: /home/biocbuild/bbs-3.22-bioc/R/bin/R CMD build --keep-empty-dirs --no-resave-data --md5 transite StartedAt: 2025-10-19 20:33:22 -0400 (Sun, 19 Oct 2025) EndedAt: 2025-10-19 20:33:57 -0400 (Sun, 19 Oct 2025) EllapsedTime: 35.1 seconds RetCode: 0 Status: OK PackageFile: transite_1.27.1.tar.gz PackageFileSize: 640.5 KiB