Package: transite Version: 1.27.1 Command: /Library/Frameworks/R.framework/Resources/bin/R CMD INSTALL transite StartedAt: 2025-10-19 15:31:24 -0400 (Sun, 19 Oct 2025) EndedAt: 2025-10-19 15:31:55 -0400 (Sun, 19 Oct 2025) EllapsedTime: 30.7 seconds RetCode: 0 Status: OK