Package: transite Version: 1.27.1 Command: /Library/Frameworks/R.framework/Resources/bin/R CMD build --keep-empty-dirs --no-resave-data transite StartedAt: 2025-10-19 19:54:09 -0400 (Sun, 19 Oct 2025) EndedAt: 2025-10-19 19:55:04 -0400 (Sun, 19 Oct 2025) EllapsedTime: 54.9 seconds RetCode: 0 Status: OK PackageFile: transite_1.27.1.tar.gz PackageFileSize: 640.5 KiB