Package: transite Version: 1.27.1 Command: rm -rf transite.buildbin-libdir && mkdir transite.buildbin-libdir && /Users/biocbuild/BBS/utils/build-universal.sh transite_1.27.1.tar.gz /Library/Frameworks/R.framework/Resources/bin/R transite.buildbin-libdir StartedAt: 2025-10-20 03:39:02 -0400 (Mon, 20 Oct 2025) EndedAt: 2025-10-20 03:39:36 -0400 (Mon, 20 Oct 2025) EllapsedTime: 33.6 seconds RetCode: 0 Status: OK PackageFile: transite_1.27.1.tgz PackageFileSize: 1.049 MiB