Package: transite Version: 1.27.1 Maintainer: Konstantin Krismer MaintainerEmail: krismer at mit.edu git_url: https://git.bioconductor.org/packages/transite git_branch: devel git_last_commit: 38c8b46 git_last_commit_date: 2025-09-23 04:40:49 -0400 (Tue, 23 Sep 2025)