Package: transformGamPoi Version: 1.15.0 Command: /home/biocbuild/bbs-3.22-bioc/R/bin/R CMD INSTALL transformGamPoi StartedAt: 2025-10-19 15:37:18 -0400 (Sun, 19 Oct 2025) EndedAt: 2025-10-19 15:37:29 -0400 (Sun, 19 Oct 2025) EllapsedTime: 10.9 seconds RetCode: 0 Status: OK