Package: transformGamPoi Version: 1.15.0 Command: /home/biocbuild/bbs-3.22-bioc/R/bin/R CMD check --install=check:transformGamPoi.install-out.txt --library=/home/biocbuild/bbs-3.22-bioc/R/site-library --timings transformGamPoi_1.15.0.tar.gz StartedAt: 2025-10-20 05:50:20 -0400 (Mon, 20 Oct 2025) EndedAt: 2025-10-20 05:52:37 -0400 (Mon, 20 Oct 2025) EllapsedTime: 137.1 seconds RetCode: 0 Status: OK CheckDir: transformGamPoi.Rcheck Warnings: 0