Package: transformGamPoi Version: 1.15.0 Command: /home/biocbuild/bbs-3.22-bioc/R/bin/R CMD build --keep-empty-dirs --no-resave-data --md5 transformGamPoi StartedAt: 2025-10-19 20:33:05 -0400 (Sun, 19 Oct 2025) EndedAt: 2025-10-19 20:33:46 -0400 (Sun, 19 Oct 2025) EllapsedTime: 41.0 seconds RetCode: 0 Status: OK PackageFile: transformGamPoi_1.15.0.tar.gz PackageFileSize: 787.2 KiB