Package: transformGamPoi Version: 1.15.0 Command: /Library/Frameworks/R.framework/Resources/bin/R CMD build --keep-empty-dirs --no-resave-data transformGamPoi StartedAt: 2025-10-24 19:06:43 -0400 (Fri, 24 Oct 2025) EndedAt: 2025-10-24 19:07:26 -0400 (Fri, 24 Oct 2025) EllapsedTime: 42.2 seconds RetCode: 0 Status: OK PackageFile: transformGamPoi_1.15.0.tar.gz PackageFileSize: 643.8 KiB