Package: transformGamPoi Version: 1.15.0 Command: /Library/Frameworks/R.framework/Resources/bin/R CMD check --install=check:transformGamPoi.install-out.txt --library=/Library/Frameworks/R.framework/Resources/library --no-vignettes --timings transformGamPoi_1.15.0.tar.gz StartedAt: 2025-10-19 22:30:40 -0400 (Sun, 19 Oct 2025) EndedAt: 2025-10-19 22:31:41 -0400 (Sun, 19 Oct 2025) EllapsedTime: 61.7 seconds RetCode: 0 Status: OK CheckDir: transformGamPoi.Rcheck Warnings: 0