Package: transformGamPoi Version: 1.15.0 Command: rm -rf transformGamPoi.buildbin-libdir && mkdir transformGamPoi.buildbin-libdir && /Users/biocbuild/BBS/utils/build-universal.sh transformGamPoi_1.15.0.tar.gz /Library/Frameworks/R.framework/Resources/bin/R transformGamPoi.buildbin-libdir StartedAt: 2025-10-19 23:19:26 -0400 (Sun, 19 Oct 2025) EndedAt: 2025-10-19 23:19:31 -0400 (Sun, 19 Oct 2025) EllapsedTime: 5.1 seconds RetCode: 0 Status: OK PackageFile: transformGamPoi_1.15.0.tgz PackageFileSize: 704.7 KiB