Package: transcriptogramer Version: 1.32.0 Command: /home/biocbuild/bbs-3.22-bioc/R/bin/R CMD INSTALL transcriptogramer StartedAt: 2025-11-13 15:40:06 -0500 (Thu, 13 Nov 2025) EndedAt: 2025-11-13 15:40:33 -0500 (Thu, 13 Nov 2025) EllapsedTime: 27.1 seconds RetCode: 0 Status: OK