Package: tradeSeq Version: 1.23.0 Command: /Library/Frameworks/R.framework/Resources/bin/R CMD check --install=check:tradeSeq.install-out.txt --library=/Library/Frameworks/R.framework/Resources/library --no-vignettes --timings tradeSeq_1.23.0.tar.gz StartedAt: 2025-10-17 22:38:48 -0400 (Fri, 17 Oct 2025) EndedAt: 2025-10-17 22:46:07 -0400 (Fri, 17 Oct 2025) EllapsedTime: 439.2 seconds RetCode: 0 Status: OK CheckDir: tradeSeq.Rcheck Warnings: 0