Package: tradeSeq Version: 1.23.0 Command: /Library/Frameworks/R.framework/Resources/bin/R CMD build --keep-empty-dirs --no-resave-data tradeSeq StartedAt: 2025-10-17 18:02:52 -0400 (Fri, 17 Oct 2025) EndedAt: 2025-10-17 18:06:00 -0400 (Fri, 17 Oct 2025) EllapsedTime: 188.2 seconds RetCode: 0 Status: OK PackageFile: tradeSeq_1.23.0.tar.gz PackageFileSize: 5.964 MiB