Package: trackViewer Version: 1.45.2 Command: /home/biocbuild/R/R/bin/R CMD check --install=check:trackViewer.install-out.txt --library=/home/biocbuild/R/R/site-library --no-vignettes --timings trackViewer_1.45.2.tar.gz StartedAt: 2025-10-17 14:35:20 -0000 (Fri, 17 Oct 2025) EndedAt: 2025-10-17 14:47:37 -0000 (Fri, 17 Oct 2025) EllapsedTime: 737.8 seconds RetCode: 0 Status: OK CheckDir: trackViewer.Rcheck Warnings: 0