Package: trackViewer Version: 1.45.2 Command: /home/biocbuild/R/R/bin/R CMD build --keep-empty-dirs --no-resave-data trackViewer StartedAt: 2025-10-17 05:17:56 -0000 (Fri, 17 Oct 2025) EndedAt: 2025-10-17 05:36:43 -0000 (Fri, 17 Oct 2025) EllapsedTime: 1126.8 seconds RetCode: 0 Status: OK PackageFile: trackViewer_1.45.2.tar.gz PackageFileSize: 6.666 MiB