Package: trackViewer Version: 1.45.2 Command: F:\biocbuild\bbs-3.22-bioc\R\bin\R.exe CMD check --no-multiarch --install=check:trackViewer.install-out.txt --library=F:\biocbuild\bbs-3.22-bioc\R\library --no-vignettes --timings trackViewer_1.45.2.tar.gz StartedAt: 2025-08-15 08:53:21 -0400 (Fri, 15 Aug 2025) EndedAt: 2025-08-15 09:03:29 -0400 (Fri, 15 Aug 2025) EllapsedTime: 607.9 seconds RetCode: 0 Status: OK CheckDir: trackViewer.Rcheck Warnings: 0