Package: trackViewer Version: 1.45.2 Command: /home/biocbuild/bbs-3.22-bioc/R/bin/R CMD INSTALL trackViewer StartedAt: 2025-10-19 15:48:47 -0400 (Sun, 19 Oct 2025) EndedAt: 2025-10-19 15:49:50 -0400 (Sun, 19 Oct 2025) EllapsedTime: 63.7 seconds RetCode: 0 Status: OK