Package: trackViewer Version: 1.45.2 Command: rm -rf trackViewer.buildbin-libdir && mkdir trackViewer.buildbin-libdir && /Users/biocbuild/BBS/utils/build-universal.sh trackViewer_1.45.2.tar.gz /Library/Frameworks/R.framework/Resources/bin/R trackViewer.buildbin-libdir StartedAt: 2025-10-20 03:38:56 -0400 (Mon, 20 Oct 2025) EndedAt: 2025-10-20 03:40:27 -0400 (Mon, 20 Oct 2025) EllapsedTime: 90.7 seconds RetCode: 0 Status: OK PackageFile: trackViewer_1.45.2.tgz PackageFileSize: 13.6 MiB