Package: tpSVG Version: 1.6.0 Command: /home/biocbuild/R/R/bin/R CMD build --keep-empty-dirs --no-resave-data tpSVG StartedAt: 2025-11-14 06:03:17 -0000 (Fri, 14 Nov 2025) EndedAt: 2025-11-14 06:04:56 -0000 (Fri, 14 Nov 2025) EllapsedTime: 99.1 seconds RetCode: 0 Status: OK PackageFile: tpSVG_1.6.0.tar.gz PackageFileSize: 1.259 MiB