Package: tpSVG Version: 1.6.0 Command: /Library/Frameworks/R.framework/Resources/bin/R CMD check --install=check:tpSVG.install-out.txt --library=/Library/Frameworks/R.framework/Resources/library --no-vignettes --timings tpSVG_1.6.0.tar.gz StartedAt: 2025-11-04 00:53:58 -0500 (Tue, 04 Nov 2025) EndedAt: 2025-11-04 00:57:52 -0500 (Tue, 04 Nov 2025) EllapsedTime: 233.8 seconds RetCode: 0 Status: OK CheckDir: tpSVG.Rcheck Warnings: 0