Package: tpSVG Version: 1.6.0 Command: /Library/Frameworks/R.framework/Resources/bin/R CMD check --install=check:tpSVG.install-out.txt --library=/Library/Frameworks/R.framework/Resources/library --no-vignettes --timings tpSVG_1.6.0.tar.gz StartedAt: 2025-11-10 22:50:22 -0500 (Mon, 10 Nov 2025) EndedAt: 2025-11-10 22:51:46 -0500 (Mon, 10 Nov 2025) EllapsedTime: 84.0 seconds RetCode: 0 Status: OK CheckDir: tpSVG.Rcheck Warnings: 0