Package: tpSVG Version: 1.6.0 Command: /Library/Frameworks/R.framework/Resources/bin/R CMD build --keep-empty-dirs --no-resave-data tpSVG StartedAt: 2025-11-10 18:02:02 -0500 (Mon, 10 Nov 2025) EndedAt: 2025-11-10 18:02:46 -0500 (Mon, 10 Nov 2025) EllapsedTime: 44.5 seconds RetCode: 0 Status: OK PackageFile: tpSVG_1.6.0.tar.gz PackageFileSize: 1.237 MiB