Package: topconfects Version: 1.25.0 Command: chmod a+r topconfects -R && F:\biocbuild\bbs-3.22-bioc\R\bin\R.exe CMD build --keep-empty-dirs --no-resave-data topconfects StartedAt: 2025-08-14 23:47:54 -0400 (Thu, 14 Aug 2025) EndedAt: 2025-08-14 23:50:45 -0400 (Thu, 14 Aug 2025) EllapsedTime: 172.0 seconds RetCode: 0 Status: OK PackageFile: topconfects_1.25.0.tar.gz PackageFileSize: 873.6 KiB