Package: topconfects Version: 1.25.0 Command: /home/biocbuild/bbs-3.22-bioc/R/bin/R CMD check --install=check:topconfects.install-out.txt --library=/home/biocbuild/bbs-3.22-bioc/R/site-library --timings topconfects_1.25.0.tar.gz StartedAt: 2025-10-25 05:01:53 -0400 (Sat, 25 Oct 2025) EndedAt: 2025-10-25 05:05:09 -0400 (Sat, 25 Oct 2025) EllapsedTime: 196.2 seconds RetCode: 0 Status: OK CheckDir: topconfects.Rcheck Warnings: 0