Package: topGO Version: 2.61.1 Command: /home/biocbuild/R/R/bin/R CMD INSTALL topGO StartedAt: 2025-10-23 21:01:29 -0000 (Thu, 23 Oct 2025) EndedAt: 2025-10-23 21:01:55 -0000 (Thu, 23 Oct 2025) EllapsedTime: 25.9 seconds RetCode: 0 Status: OK