Package: topGO Version: 2.61.1 Command: /home/biocbuild/bbs-3.22-bioc/R/bin/R CMD check --install=check:topGO.install-out.txt --library=/home/biocbuild/bbs-3.22-bioc/R/site-library --timings topGO_2.61.1.tar.gz StartedAt: 2025-10-23 05:45:38 -0400 (Thu, 23 Oct 2025) EndedAt: 2025-10-23 05:49:19 -0400 (Thu, 23 Oct 2025) EllapsedTime: 221.2 seconds RetCode: 0 Status: WARNINGS CheckDir: topGO.Rcheck Warnings: 1