Package: topGO Version: 2.61.1 Command: /home/biocbuild/bbs-3.22-bioc/R/bin/R CMD build --keep-empty-dirs --no-resave-data --md5 topGO StartedAt: 2025-10-22 20:34:34 -0400 (Wed, 22 Oct 2025) EndedAt: 2025-10-22 20:36:35 -0400 (Wed, 22 Oct 2025) EllapsedTime: 121.2 seconds RetCode: 0 Status: OK PackageFile: topGO_2.61.1.tar.gz PackageFileSize: 2.38 MiB