Package: topGO Version: 2.61.1 Command: /Library/Frameworks/R.framework/Resources/bin/R CMD INSTALL topGO StartedAt: 2025-10-22 15:34:15 -0400 (Wed, 22 Oct 2025) EndedAt: 2025-10-22 15:34:43 -0400 (Wed, 22 Oct 2025) EllapsedTime: 28.1 seconds RetCode: 0 Status: OK