Package: topGO Version: 2.61.1 Command: /Library/Frameworks/R.framework/Resources/bin/R CMD build --keep-empty-dirs --no-resave-data topGO StartedAt: 2025-10-22 19:00:07 -0400 (Wed, 22 Oct 2025) EndedAt: 2025-10-22 19:02:35 -0400 (Wed, 22 Oct 2025) EllapsedTime: 147.4 seconds RetCode: 0 Status: OK PackageFile: topGO_2.61.1.tar.gz PackageFileSize: 2.51 MiB