Package: topGO Version: 2.61.1 Command: /Library/Frameworks/R.framework/Resources/bin/R CMD INSTALL topGO StartedAt: 2025-10-23 15:24:09 -0400 (Thu, 23 Oct 2025) EndedAt: 2025-10-23 15:24:16 -0400 (Thu, 23 Oct 2025) EllapsedTime: 7.2 seconds RetCode: 0 Status: OK