Package: topGO Version: 2.61.1 Command: /Library/Frameworks/R.framework/Resources/bin/R CMD build --keep-empty-dirs --no-resave-data topGO StartedAt: 2025-10-23 18:04:11 -0400 (Thu, 23 Oct 2025) EndedAt: 2025-10-23 18:05:07 -0400 (Thu, 23 Oct 2025) EllapsedTime: 55.6 seconds RetCode: 0 Status: OK PackageFile: topGO_2.61.1.tar.gz PackageFileSize: 2.512 MiB