Package: tomoda Version: 1.19.0 Command: /home/biocbuild/R/R/bin/R CMD INSTALL tomoda StartedAt: 2025-10-16 21:52:46 -0000 (Thu, 16 Oct 2025) EndedAt: 2025-10-16 21:53:17 -0000 (Thu, 16 Oct 2025) EllapsedTime: 30.9 seconds RetCode: 0 Status: OK